BEGIN:VCALENDAR
VERSION:2.0
PRODID:-//Luhdorf erLeben e.V. - ECPv6.15.20//NONSGML v1.0//EN
CALSCALE:GREGORIAN
METHOD:PUBLISH
X-ORIGINAL-URL:https://www.luhdorf.de
X-WR-CALDESC:Veranstaltungen für Luhdorf erLeben e.V.
REFRESH-INTERVAL;VALUE=DURATION:PT1H
X-Robots-Tag:noindex
X-PUBLISHED-TTL:PT1H
BEGIN:VTIMEZONE
TZID:Europe/Berlin
BEGIN:DAYLIGHT
TZOFFSETFROM:+0100
TZOFFSETTO:+0200
TZNAME:CEST
DTSTART:20230326T010000
END:DAYLIGHT
BEGIN:STANDARD
TZOFFSETFROM:+0200
TZOFFSETTO:+0100
TZNAME:CET
DTSTART:20231029T010000
END:STANDARD
BEGIN:DAYLIGHT
TZOFFSETFROM:+0100
TZOFFSETTO:+0200
TZNAME:CEST
DTSTART:20240331T010000
END:DAYLIGHT
BEGIN:STANDARD
TZOFFSETFROM:+0200
TZOFFSETTO:+0100
TZNAME:CET
DTSTART:20241027T010000
END:STANDARD
BEGIN:DAYLIGHT
TZOFFSETFROM:+0100
TZOFFSETTO:+0200
TZNAME:CEST
DTSTART:20250330T010000
END:DAYLIGHT
BEGIN:STANDARD
TZOFFSETFROM:+0200
TZOFFSETTO:+0100
TZNAME:CET
DTSTART:20251026T010000
END:STANDARD
END:VTIMEZONE
BEGIN:VEVENT
DTSTART;TZID=Europe/Berlin:20241114T150000
DTEND;TZID=Europe/Berlin:20241114T170000
DTSTAMP:20260423T043817
CREATED:20241002T092347Z
LAST-MODIFIED:20241002T092347Z
UID:538-1731596400-1731603600@www.luhdorf.de
SUMMARY:Theater: Kaviar dröppt Currywurst
DESCRIPTION:Am Donnerstag\, 14.11. Einlass ab 13Uhr\, Kaffee und Kuchen ab 14Uhr\, Spielbeginn 15Uhr
URL:https://www.luhdorf.de/event/theater-kaviar-droeppt-currywurst-4/
LOCATION:Niedersachsen
CATEGORIES:Theater
END:VEVENT
BEGIN:VEVENT
DTSTART;TZID=Europe/Berlin:20241115T190000
DTEND;TZID=Europe/Berlin:20241115T220000
DTSTAMP:20260423T043817
CREATED:20241002T092322Z
LAST-MODIFIED:20241002T092322Z
UID:540-1731697200-1731708000@www.luhdorf.de
SUMMARY:Theater: Kaviar dröppt Currywurst
DESCRIPTION:Am Freitag\, 15.11. Einlass ab 19Uhr\, Spielbeginn 20Uhr
URL:https://www.luhdorf.de/event/theater-kaviar-droeppt-currywurst-3/
LOCATION:Niedersachsen
CATEGORIES:Theater
END:VEVENT
BEGIN:VEVENT
DTSTART;TZID=Europe/Berlin:20241116T200000
DTEND;TZID=Europe/Berlin:20241116T220000
DTSTAMP:20260423T043817
CREATED:20240513T104119Z
LAST-MODIFIED:20241002T092257Z
UID:542-1731787200-1731794400@www.luhdorf.de
SUMMARY:Theater: Kaviar dröppt Currywurst
DESCRIPTION:Am Samstag\, 16.11. Einlass ab 19Uhr\, Spielbeginn 20Uhr
URL:https://www.luhdorf.de/event/theater-kaviar-droeppt-currywurst/
LOCATION:Niedersachsen
CATEGORIES:Theater
END:VEVENT
BEGIN:VEVENT
DTSTART;TZID=Europe/Berlin:20241117T190000
DTEND;TZID=Europe/Berlin:20241117T210000
DTSTAMP:20260423T043817
CREATED:20240513T104303Z
LAST-MODIFIED:20241002T092411Z
UID:544-1731870000-1731877200@www.luhdorf.de
SUMMARY:Theater: Kaviar dröppt Currywurst
DESCRIPTION:Am Sonntag\, 17.11. Einlass ab 18Uhr\, Spielbeginn 19Uhr
URL:https://www.luhdorf.de/event/theater-kaviar-droeppt-currywurst-2/
LOCATION:Niedersachsen
CATEGORIES:Theater
END:VEVENT
BEGIN:VEVENT
DTSTART;TZID=Europe/Berlin:20241130T130000
DTEND;TZID=Europe/Berlin:20241130T170000
DTSTAMP:20260423T043817
CREATED:20241124T212403Z
LAST-MODIFIED:20241124T212513Z
UID:597-1732971600-1732986000@www.luhdorf.de
SUMMARY:Adventsbasar in der DRK Kita Luhdorf
DESCRIPTION:Hier findest du eine Auswahl an Handgemachtem zB. Kreatives aus der Nähstube\, Leckeres aus der Backstube und Interessantes aus der Kreativwerkstatt. \nMitarbeiterInnen und Eltern der KiTA Luhdorf bieten einen weihnachtlichen Nachmittag bei Kaffee\, Kuchen und Punsch.
URL:https://www.luhdorf.de/event/adventsbasar-in-der-drk-kita-luhdorf/
LOCATION:DRK Kita Luhdorf\, Kleines Feld 24\, Winsen(Luhe)\, 21423
CATEGORIES:Adventsbasar
END:VEVENT
END:VCALENDAR