BEGIN:VCALENDAR
VERSION:2.0
PRODID:-//Luhdorf erLeben e.V. - ECPv6.15.20//NONSGML v1.0//EN
CALSCALE:GREGORIAN
METHOD:PUBLISH
X-WR-CALNAME:Luhdorf erLeben e.V.
X-ORIGINAL-URL:https://www.luhdorf.de
X-WR-CALDESC:Veranstaltungen für Luhdorf erLeben e.V.
REFRESH-INTERVAL;VALUE=DURATION:PT1H
X-Robots-Tag:noindex
X-PUBLISHED-TTL:PT1H
BEGIN:VTIMEZONE
TZID:Europe/Berlin
BEGIN:DAYLIGHT
TZOFFSETFROM:+0100
TZOFFSETTO:+0200
TZNAME:CEST
DTSTART:20240331T010000
END:DAYLIGHT
BEGIN:STANDARD
TZOFFSETFROM:+0200
TZOFFSETTO:+0100
TZNAME:CET
DTSTART:20241027T010000
END:STANDARD
BEGIN:DAYLIGHT
TZOFFSETFROM:+0100
TZOFFSETTO:+0200
TZNAME:CEST
DTSTART:20250330T010000
END:DAYLIGHT
BEGIN:STANDARD
TZOFFSETFROM:+0200
TZOFFSETTO:+0100
TZNAME:CET
DTSTART:20251026T010000
END:STANDARD
BEGIN:DAYLIGHT
TZOFFSETFROM:+0100
TZOFFSETTO:+0200
TZNAME:CEST
DTSTART:20260329T010000
END:DAYLIGHT
BEGIN:STANDARD
TZOFFSETFROM:+0200
TZOFFSETTO:+0100
TZNAME:CET
DTSTART:20261025T010000
END:STANDARD
END:VTIMEZONE
BEGIN:VEVENT
DTSTART;TZID=Europe/Berlin:20250405T093000
DTEND;TZID=Europe/Berlin:20250405T130000
DTSTAMP:20260419T154826
CREATED:20250102T080303Z
LAST-MODIFIED:20250304T111535Z
UID:615-1743845400-1743858000@www.luhdorf.de
SUMMARY:Luhdorf räumt auf - Frühjahrsputz
DESCRIPTION:MÜLL – SAMMEL – Aktion \n \n\nWir freuen uns auf Euch!
URL:https://www.luhdorf.de/event/luhdorf-raeumt-auf-fruehjahrsputz/
LOCATION:Niedersachsen
CATEGORIES:Luhdorf räumt auf
END:VEVENT
END:VCALENDAR