BEGIN:VCALENDAR
VERSION:2.0
PRODID:-//Luhdorf erLeben e.V. - ECPv6.15.20//NONSGML v1.0//EN
CALSCALE:GREGORIAN
METHOD:PUBLISH
X-WR-CALNAME:Luhdorf erLeben e.V.
X-ORIGINAL-URL:https://www.luhdorf.de
X-WR-CALDESC:Veranstaltungen für Luhdorf erLeben e.V.
REFRESH-INTERVAL;VALUE=DURATION:PT1H
X-Robots-Tag:noindex
X-PUBLISHED-TTL:PT1H
BEGIN:VTIMEZONE
TZID:Europe/Berlin
BEGIN:DAYLIGHT
TZOFFSETFROM:+0100
TZOFFSETTO:+0200
TZNAME:CEST
DTSTART:20240331T010000
END:DAYLIGHT
BEGIN:STANDARD
TZOFFSETFROM:+0200
TZOFFSETTO:+0100
TZNAME:CET
DTSTART:20241027T010000
END:STANDARD
BEGIN:DAYLIGHT
TZOFFSETFROM:+0100
TZOFFSETTO:+0200
TZNAME:CEST
DTSTART:20250330T010000
END:DAYLIGHT
BEGIN:STANDARD
TZOFFSETFROM:+0200
TZOFFSETTO:+0100
TZNAME:CET
DTSTART:20251026T010000
END:STANDARD
BEGIN:DAYLIGHT
TZOFFSETFROM:+0100
TZOFFSETTO:+0200
TZNAME:CEST
DTSTART:20260329T010000
END:DAYLIGHT
BEGIN:STANDARD
TZOFFSETFROM:+0200
TZOFFSETTO:+0100
TZNAME:CET
DTSTART:20261025T010000
END:STANDARD
END:VTIMEZONE
BEGIN:VEVENT
DTSTART;TZID=Europe/Berlin:20250212T183000
DTEND;TZID=Europe/Berlin:20250212T200000
DTSTAMP:20260421T021046
CREATED:20250102T080045Z
LAST-MODIFIED:20250102T080045Z
UID:612-1739385000-1739390400@www.luhdorf.de
SUMMARY:Jahreshauptversammlung Luhdorf erLeben e.V.
DESCRIPTION:Zur diesjährigen Jahreshauptversammlung lädt Luhdorf erLeben e.V. am 12.02.2025. \nAb 18:30Uhr wollen wir bei einer gemeinsamen Sitzung verschiedene Themen besprechen\, u.A. stehen Wahlen des 1. Vorsitzenden und des Kassenwarts an. \nDie TO gibt es zur Ladungsfrist von 14 Tagen vorher hier einzusehen.
URL:https://www.luhdorf.de/event/jahreshauptversammlung-luhdorf-erleben-e-v-2/
CATEGORIES:Jahreshauptversammlung
END:VEVENT
END:VCALENDAR