BEGIN:VCALENDAR
VERSION:2.0
PRODID:-//Luhdorf erLeben e.V. - ECPv6.15.20//NONSGML v1.0//EN
CALSCALE:GREGORIAN
METHOD:PUBLISH
X-ORIGINAL-URL:https://www.luhdorf.de
X-WR-CALDESC:Veranstaltungen für Luhdorf erLeben e.V.
REFRESH-INTERVAL;VALUE=DURATION:PT1H
X-Robots-Tag:noindex
X-PUBLISHED-TTL:PT1H
BEGIN:VTIMEZONE
TZID:Europe/Berlin
BEGIN:DAYLIGHT
TZOFFSETFROM:+0100
TZOFFSETTO:+0200
TZNAME:CEST
DTSTART:20230326T010000
END:DAYLIGHT
BEGIN:STANDARD
TZOFFSETFROM:+0200
TZOFFSETTO:+0100
TZNAME:CET
DTSTART:20231029T010000
END:STANDARD
BEGIN:DAYLIGHT
TZOFFSETFROM:+0100
TZOFFSETTO:+0200
TZNAME:CEST
DTSTART:20240331T010000
END:DAYLIGHT
BEGIN:STANDARD
TZOFFSETFROM:+0200
TZOFFSETTO:+0100
TZNAME:CET
DTSTART:20241027T010000
END:STANDARD
BEGIN:DAYLIGHT
TZOFFSETFROM:+0100
TZOFFSETTO:+0200
TZNAME:CEST
DTSTART:20250330T010000
END:DAYLIGHT
BEGIN:STANDARD
TZOFFSETFROM:+0200
TZOFFSETTO:+0100
TZNAME:CET
DTSTART:20251026T010000
END:STANDARD
END:VTIMEZONE
BEGIN:VEVENT
DTSTART;TZID=Europe/Berlin:20240406T093000
DTEND;TZID=Europe/Berlin:20240406T130000
DTSTAMP:20260426T052739
CREATED:20240309T132839Z
LAST-MODIFIED:20240328T092919Z
UID:401-1712395800-1712408400@www.luhdorf.de
SUMMARY:Frühjahrsputz - Luhdorf räumt auf
DESCRIPTION:MÜLL – SAMMEL – Aktion \nWANN & WO:   \nSamstag\, 06.04.2024 \nTreffpunkt: 9.30 Uhr am Feuerwehrhaus \nUNTER DEM MOTTO: “FRÜHJAHRSPUTZ in Luhdorf” WOLLEN WIR UNSER DORF VON ACHTLOS WEGGEWORFENEM MÜLL BEFREIEN. WIR STELLEN MÜLLBEUTEL\,GREIFZANGEN SOWIE HANDSCHUHE UND MACHEN UNS IN KLEINEN GRUPPEN AUF VERSCHIEDENEN WEGEN AN DIE ARBEIT. IM ANSCHLUSS LADEN WIR ZUM GEMEINSAMEN IMBISS EIN. \nWir freuen uns auf Euch! \nDer Imbiss ist möglich durch die freundliche Unterstützung von Dorfbäckerei Soetebier.
URL:https://www.luhdorf.de/event/fruehjahrsputz-luhdorf-raeumt-auf/
LOCATION:Feuerwehrhaus Luhdorf\, Winsener Landstraße 61A\, Winsen\, Niedersachsen\, 21423\, Deutschland
CATEGORIES:Luhdorf räumt auf
END:VEVENT
BEGIN:VEVENT
DTSTART;VALUE=DATE:20240407
DTEND;VALUE=DATE:20240819
DTSTAMP:20260426T052739
CREATED:20240405T084224Z
LAST-MODIFIED:20240407T102652Z
UID:468-1712448000-1724025599@www.luhdorf.de
SUMMARY:Anmeldung zum Flohmarkt
DESCRIPTION:Hier kommst du zum Anmeldeformular. \n 
URL:https://www.luhdorf.de/event/anmeldung-zum-flohmarkt-startet/
LOCATION:Luhdorf.de
CATEGORIES:Dorffest,Flohmarkt
END:VEVENT
BEGIN:VEVENT
DTSTART;TZID=Europe/Berlin:20240421T130000
DTEND;TZID=Europe/Berlin:20240421T170000
DTSTAMP:20260426T052739
CREATED:20240419T114653Z
LAST-MODIFIED:20240419T114825Z
UID:520-1713704400-1713718800@www.luhdorf.de
SUMMARY:Family Golf Day // Green Eagle
DESCRIPTION:
URL:https://www.luhdorf.de/event/family-golf-day-green-eagle/
LOCATION:Green Eagle Golfcourse\, Radbrucher Straße 200\, Winsen\, Niedersachsen\, 21423\, Deutschland
CATEGORIES:Golf Family Day
END:VEVENT
BEGIN:VEVENT
DTSTART;TZID=Europe/Berlin:20240426T183000
DTEND;TZID=Europe/Berlin:20240426T210000
DTSTAMP:20260426T052739
CREATED:20240328T093943Z
LAST-MODIFIED:20240426T124700Z
UID:448-1714156200-1714165200@www.luhdorf.de
SUMMARY:Buernreken 2024
DESCRIPTION:Die diesjährige Bürgerversammlung findet am 26.04.2024 um 18:30 Uhr im Schützenhaus statt.
URL:https://www.luhdorf.de/event/buernreken-2024/
LOCATION:Schützenhaus Luhdorf\, Luhdorfer Waldweg 14\, Winsen (Luhe)\, 21423\, Deutschland
CATEGORIES:Buernreken
ORGANIZER;CN="Ortsvorsteher":MAILTO:Rolf.gevers@luhdorf.de
END:VEVENT
END:VCALENDAR