BEGIN:VCALENDAR
VERSION:2.0
PRODID:-//Luhdorf erLeben e.V. - ECPv6.15.20//NONSGML v1.0//EN
CALSCALE:GREGORIAN
METHOD:PUBLISH
X-ORIGINAL-URL:https://www.luhdorf.de
X-WR-CALDESC:Veranstaltungen für Luhdorf erLeben e.V.
REFRESH-INTERVAL;VALUE=DURATION:PT1H
X-Robots-Tag:noindex
X-PUBLISHED-TTL:PT1H
BEGIN:VTIMEZONE
TZID:Europe/Berlin
BEGIN:DAYLIGHT
TZOFFSETFROM:+0100
TZOFFSETTO:+0200
TZNAME:CEST
DTSTART:20230326T010000
END:DAYLIGHT
BEGIN:STANDARD
TZOFFSETFROM:+0200
TZOFFSETTO:+0100
TZNAME:CET
DTSTART:20231029T010000
END:STANDARD
BEGIN:DAYLIGHT
TZOFFSETFROM:+0100
TZOFFSETTO:+0200
TZNAME:CEST
DTSTART:20240331T010000
END:DAYLIGHT
BEGIN:STANDARD
TZOFFSETFROM:+0200
TZOFFSETTO:+0100
TZNAME:CET
DTSTART:20241027T010000
END:STANDARD
BEGIN:DAYLIGHT
TZOFFSETFROM:+0100
TZOFFSETTO:+0200
TZNAME:CEST
DTSTART:20250330T010000
END:DAYLIGHT
BEGIN:STANDARD
TZOFFSETFROM:+0200
TZOFFSETTO:+0100
TZNAME:CET
DTSTART:20251026T010000
END:STANDARD
END:VTIMEZONE
BEGIN:VEVENT
DTSTART;TZID=Europe/Berlin:20240330T183000
DTEND;TZID=Europe/Berlin:20240330T233000
DTSTAMP:20260422T060433
CREATED:20240309T133850Z
LAST-MODIFIED:20240309T133850Z
UID:406-1711823400-1711841400@www.luhdorf.de
SUMMARY:Osterfeuer Luhdorf
DESCRIPTION:Komm am Ostersamstag\, 30.03.2024 zum Osterfeuerplatz am Vierhöfener Weg in Luhdorf.\nLos geht’s um 18.30 Uhr am Vierhöfener Weg mit einem Ostereiersuchen für die kleinen Gäste.\nAngefeuert wird ab 19Uhr. Essen gibt es vom Grill. Auch für Getränke ist gesorgt. \nBuschwerk kann am 16. und am 23. März\, sowie am 30. März von 9 bis 17 Uhr angeliefert werden.
URL:https://www.luhdorf.de/event/osterfeuer-luhdorf/
LOCATION:Osterfeuerplatz\, Vierhöfener Weg\, Winsen\, Niedersachsen\, 21423\, Deutschland
CATEGORIES:Osterfeuer
END:VEVENT
END:VCALENDAR