BEGIN:VCALENDAR
VERSION:2.0
PRODID:-//Luhdorf erLeben e.V. - ECPv6.15.20//NONSGML v1.0//EN
CALSCALE:GREGORIAN
METHOD:PUBLISH
X-WR-CALNAME:Luhdorf erLeben e.V.
X-ORIGINAL-URL:https://www.luhdorf.de
X-WR-CALDESC:Veranstaltungen für Luhdorf erLeben e.V.
REFRESH-INTERVAL;VALUE=DURATION:PT1H
X-Robots-Tag:noindex
X-PUBLISHED-TTL:PT1H
BEGIN:VTIMEZONE
TZID:UTC
BEGIN:STANDARD
TZOFFSETFROM:+0000
TZOFFSETTO:+0000
TZNAME:UTC
DTSTART:20220101T000000
END:STANDARD
END:VTIMEZONE
BEGIN:VEVENT
DTSTART;TZID=UTC:20230806T123000
DTEND;TZID=UTC:20230813T120000
DTSTAMP:20260426T001517
CREATED:20230719T124717Z
LAST-MODIFIED:20230719T124717Z
UID:268-1691325000-1691928000@www.luhdorf.de
SUMMARY:Schützenfest
DESCRIPTION:Die Schützenlameradschaft Luhdorf/Roydorf e.V. lädt zum alljährlichen Schützenfest mit Königsschießen\, Zapfenstreich\, Zeltdisco\, Ü30 Party und Frühshoppen.
URL:https://www.luhdorf.de/event/schuetzenfest/
LOCATION:Schützenhaus Luhdorf\, Luhdorfer Waldweg 14\, Winsen (Luhe)\, 21423\, Deutschland
END:VEVENT
END:VCALENDAR