BEGIN:VCALENDAR
VERSION:2.0
PRODID:-//Luhdorf erLeben e.V. - ECPv6.15.20//NONSGML v1.0//EN
CALSCALE:GREGORIAN
METHOD:PUBLISH
X-ORIGINAL-URL:https://www.luhdorf.de
X-WR-CALDESC:Veranstaltungen für Luhdorf erLeben e.V.
REFRESH-INTERVAL;VALUE=DURATION:PT1H
X-Robots-Tag:noindex
X-PUBLISHED-TTL:PT1H
BEGIN:VTIMEZONE
TZID:Europe/Berlin
BEGIN:DAYLIGHT
TZOFFSETFROM:+0100
TZOFFSETTO:+0200
TZNAME:CEST
DTSTART:20240331T010000
END:DAYLIGHT
BEGIN:STANDARD
TZOFFSETFROM:+0200
TZOFFSETTO:+0100
TZNAME:CET
DTSTART:20241027T010000
END:STANDARD
BEGIN:DAYLIGHT
TZOFFSETFROM:+0100
TZOFFSETTO:+0200
TZNAME:CEST
DTSTART:20250330T010000
END:DAYLIGHT
BEGIN:STANDARD
TZOFFSETFROM:+0200
TZOFFSETTO:+0100
TZNAME:CET
DTSTART:20251026T010000
END:STANDARD
BEGIN:DAYLIGHT
TZOFFSETFROM:+0100
TZOFFSETTO:+0200
TZNAME:CEST
DTSTART:20260329T010000
END:DAYLIGHT
BEGIN:STANDARD
TZOFFSETFROM:+0200
TZOFFSETTO:+0100
TZNAME:CET
DTSTART:20261025T010000
END:STANDARD
END:VTIMEZONE
BEGIN:VEVENT
DTSTART;TZID=Europe/Berlin:20251101T100000
DTEND;TZID=Europe/Berlin:20251101T120000
DTSTAMP:20260420T032918
CREATED:20251020T083509Z
LAST-MODIFIED:20251020T083509Z
UID:773-1761991200-1761998400@www.luhdorf.de
SUMMARY:Müll-Sammeln Herbst 2025
DESCRIPTION:Wir freuen uns auf eure Unterstützung beim Müll-Sammeln am 1.11.2025. \nWir treffen uns um 10:00Uhr am Feuerwehrhaus in Luhdorf. \nGemeinsam wollen wir Luhdorf aufräumen. Im Anschluss gibt es einen kleinen Imbiss für alle fleißigen Helfer.
URL:https://www.luhdorf.de/event/muell-sammeln-herbst-2025/
LOCATION:Feuerwehrhaus Luhdorf\, Winsener Landstraße 61A\, Winsen\, Niedersachsen\, 21423\, Deutschland
CATEGORIES:Luhdorf räumt auf
END:VEVENT
BEGIN:VEVENT
DTSTART;TZID=Europe/Berlin:20251107T170000
DTEND;TZID=Europe/Berlin:20251107T190000
DTSTAMP:20260420T032918
CREATED:20251020T181642Z
LAST-MODIFIED:20251020T181642Z
UID:779-1762534800-1762542000@www.luhdorf.de
SUMMARY:Laternenumzug Luhdorf
DESCRIPTION:Der MTV Luhdorf-Roydorf e.V. lädt zum jährlichen Laterne laufen am \n7.11.2025 um 17:00Uhr \nStart und Ende ist an der Sporthalle\, Höllenberg 2. \n 
URL:https://www.luhdorf.de/event/laternenumzug-luhdorf/
LOCATION:Peter-Wind-Sporthalle\, Höllenberg 2\, Winsen\, 21423\, Deutschland
CATEGORIES:Laternenumzug
END:VEVENT
BEGIN:VEVENT
DTSTART;TZID=Europe/Berlin:20251113T150000
DTEND;TZID=Europe/Berlin:20251113T170000
DTSTAMP:20260420T032918
CREATED:20250911T125228Z
LAST-MODIFIED:20250911T125228Z
UID:737-1763046000-1763053200@www.luhdorf.de
SUMMARY:Theater - Casanovas Comeback
DESCRIPTION:Spielzeiten und Preise \nKomödie in drei Akten von\nAndreas Wening \nPlattdeutsche Fassung von Heino Buerhoop \nBeate Boring ist von ihrer Ehe entsetzlich enttäuscht. Die lebenslustige Frau träumt von fernen Reisen\, fröhlichen Partys und ausgelassenem Vergnügen. Allerdings scheint sie hierzu mit ihrem Gatten Ralf die falsche Wahl getroffen zu haben. Der erfolglose Versicherungsvertreter ist durch und durch ein Couch-Potato und kann sich lediglich für die bevorstehende Paarung seiner Hoch-Zucht-Guppy-Fische begeistern.\nEines Tages bekommt Beate über Facebook zufällig wieder Kontakt zu ihrer ehemaligen Freundin Simone und lädt diese\, zusammen mit ihrem illustren Lebensgefährten Adrian van Kleist\, auf ein Wochenende zu sich ein. Beim gemeinsamen Abendessen wird sehr schnell klar\, dass Ralf mit den Erläuterungen zu seiner öden Bierdeckelsammlung gegen Adrians Schilderungen von Fallschirmspringen und Haifischtauchen nur wie ein quälender Langweiler daher kommt. Als Adrian ganz beiläufig von seiner Fähigkeit berichtet\, Menschen durch Trance in ihr vorheriges Leben zurückführen zu können\, überreden Beate und Simone den skeptischen Ralf\, sich auf einen Versuch einzulassen. Widerwillig stimmt er dem Experiment zu. Und so wird der farblose Ralf in sein vorheriges Leben gependelt…
URL:https://www.luhdorf.de/event/theater-casanovas-comeback/
LOCATION:Niedersachsen
CATEGORIES:Theater
END:VEVENT
BEGIN:VEVENT
DTSTART;TZID=Europe/Berlin:20251115T200000
DTEND;TZID=Europe/Berlin:20251115T220000
DTSTAMP:20260420T032918
CREATED:20250911T125715Z
LAST-MODIFIED:20250911T125715Z
UID:742-1763236800-1763244000@www.luhdorf.de
SUMMARY:Theater Casanovas Comeback
DESCRIPTION:Spielzeiten und Preise \nKomödie in drei Akten von\nAndreas Wening \nPlattdeutsche Fassung von Heino Buerhoop \nBeate Boring ist von ihrer Ehe entsetzlich enttäuscht. Die lebenslustige Frau träumt von fernen Reisen\, fröhlichen Partys und ausgelassenem Vergnügen. Allerdings scheint sie hierzu mit ihrem Gatten Ralf die falsche Wahl getroffen zu haben. Der erfolglose Versicherungsvertreter ist durch und durch ein Couch-Potato und kann sich lediglich für die bevorstehende Paarung seiner Hoch-Zucht-Guppy-Fische begeistern.\nEines Tages bekommt Beate über Facebook zufällig wieder Kontakt zu ihrer ehemaligen Freundin Simone und lädt diese\, zusammen mit ihrem illustren Lebensgefährten Adrian van Kleist\, auf ein Wochenende zu sich ein. Beim gemeinsamen Abendessen wird sehr schnell klar\, dass Ralf mit den Erläuterungen zu seiner öden Bierdeckelsammlung gegen Adrians Schilderungen von Fallschirmspringen und Haifischtauchen nur wie ein quälender Langweiler daher kommt. Als Adrian ganz beiläufig von seiner Fähigkeit berichtet\, Menschen durch Trance in ihr vorheriges Leben zurückführen zu können\, überreden Beate und Simone den skeptischen Ralf\, sich auf einen Versuch einzulassen. Widerwillig stimmt er dem Experiment zu. Und so wird der farblose Ralf in sein vorheriges Leben gependelt…
URL:https://www.luhdorf.de/event/theater-casanovas-comeback-3/
LOCATION:Stadthalle Winsen\, Luhdorfer Straße 29\, Winsen Luhe\, 21423\, Germany
CATEGORIES:Theater
END:VEVENT
BEGIN:VEVENT
DTSTART;TZID=Europe/Berlin:20251116T190000
DTEND;TZID=Europe/Berlin:20251116T210000
DTSTAMP:20260420T032918
CREATED:20250911T125913Z
LAST-MODIFIED:20250911T125913Z
UID:746-1763319600-1763326800@www.luhdorf.de
SUMMARY:Theater Casanovas Comeback
DESCRIPTION:Spielzeiten und Preise \nKomödie in drei Akten von\nAndreas Wening \nPlattdeutsche Fassung von Heino Buerhoop \nBeate Boring ist von ihrer Ehe entsetzlich enttäuscht. Die lebenslustige Frau träumt von fernen Reisen\, fröhlichen Partys und ausgelassenem Vergnügen. Allerdings scheint sie hierzu mit ihrem Gatten Ralf die falsche Wahl getroffen zu haben. Der erfolglose Versicherungsvertreter ist durch und durch ein Couch-Potato und kann sich lediglich für die bevorstehende Paarung seiner Hoch-Zucht-Guppy-Fische begeistern.\nEines Tages bekommt Beate über Facebook zufällig wieder Kontakt zu ihrer ehemaligen Freundin Simone und lädt diese\, zusammen mit ihrem illustren Lebensgefährten Adrian van Kleist\, auf ein Wochenende zu sich ein. Beim gemeinsamen Abendessen wird sehr schnell klar\, dass Ralf mit den Erläuterungen zu seiner öden Bierdeckelsammlung gegen Adrians Schilderungen von Fallschirmspringen und Haifischtauchen nur wie ein quälender Langweiler daher kommt. Als Adrian ganz beiläufig von seiner Fähigkeit berichtet\, Menschen durch Trance in ihr vorheriges Leben zurückführen zu können\, überreden Beate und Simone den skeptischen Ralf\, sich auf einen Versuch einzulassen. Widerwillig stimmt er dem Experiment zu. Und so wird der farblose Ralf in sein vorheriges Leben gependelt…
URL:https://www.luhdorf.de/event/theater-casanovas-comeback-4/
LOCATION:Stadthalle Winsen\, Luhdorfer Straße 29\, Winsen Luhe\, 21423\, Germany
END:VEVENT
END:VCALENDAR